BEGIN:VCALENDAR
VERSION:2.0
PRODID:-//eventon.com NONSGML v1.0//EN
CALSCALE:GREGORIAN
METHOD:PUBLISH
BEGIN:VEVENT
UID:69e9f0aba8321
DTSTAMP:20260423T101259Z
DTSTART:20250121T000000Z
DTEND:20250121T013000Z
LOCATION:
SUMMARY:Maryland 210 Safety Committe Meeting
DESCRIPTION:Please mark your calendars and spread the word! Participate to 
 make the roadway safer.  This is a virtual meeting.  Scheduled for every 
 3rd Monday during each month.\nhttps://www.summerwoodcommunity.org/events/m
 aryland-210-safety-committe-meeting/var/event_access
URL:https://www.summerwoodcommunity.org/events/maryland-210-safety-committe-meeting/var/event_access
END:VEVENT
END:VCALENDAR